BEGIN:VCALENDAR
VERSION:2.0
PRODID:-//Cork GAA - ECPv6.15.20//NONSGML v1.0//EN
CALSCALE:GREGORIAN
METHOD:PUBLISH
X-WR-CALNAME:Cork GAA
X-ORIGINAL-URL:https://gaacork.ie
X-WR-CALDESC:Events for Cork GAA
REFRESH-INTERVAL;VALUE=DURATION:PT1H
X-Robots-Tag:noindex
X-PUBLISHED-TTL:PT1H
BEGIN:VTIMEZONE
TZID:Europe/Dublin
BEGIN:STANDARD
TZOFFSETFROM:+0000
TZOFFSETTO:+0100
TZNAME:IST
DTSTART:20240331T010000
END:STANDARD
BEGIN:DAYLIGHT
TZOFFSETFROM:+0100
TZOFFSETTO:+0000
TZNAME:GMT
DTSTART:20241027T010000
END:DAYLIGHT
BEGIN:STANDARD
TZOFFSETFROM:+0000
TZOFFSETTO:+0100
TZNAME:IST
DTSTART:20250330T010000
END:STANDARD
BEGIN:DAYLIGHT
TZOFFSETFROM:+0100
TZOFFSETTO:+0000
TZNAME:GMT
DTSTART:20251026T010000
END:DAYLIGHT
BEGIN:STANDARD
TZOFFSETFROM:+0000
TZOFFSETTO:+0100
TZNAME:IST
DTSTART:20260329T010000
END:STANDARD
BEGIN:DAYLIGHT
TZOFFSETFROM:+0100
TZOFFSETTO:+0000
TZNAME:GMT
DTSTART:20261025T010000
END:DAYLIGHT
END:VTIMEZONE
BEGIN:VEVENT
DTSTART;TZID=Europe/Dublin:20250920T160000
DTEND;TZID=Europe/Dublin:20250920T180000
DTSTAMP:20260426T025435
CREATED:20250916T172858Z
LAST-MODIFIED:20250916T190346Z
UID:38819-1758384000-1758391200@gaacork.ie
SUMMARY:Ballygarvan v St. Catherine’s – PJHC Quarter-Final
DESCRIPTION:Ballygarvan v St. Catherine’s – PJHC Quarter-Final \nBallygarvan and St. Catherine’s will meet in the quarter-final of the Co-Op Superstores Premier Junior Hurling Championship.📍 Venue: Riverstown⏰ Throw-in: 4:00 PM \nBuy Match Tickets
URL:https://gaacork.ie/event/ballygarvan-v-st-catherines-pjhc-quarter-final/
LOCATION:Riverstown
CATEGORIES:Key Matches,Tickets
ATTACH;FMTTYPE=image/jpeg:https://gaacork.ie/wp-content/uploads/2025/09/Final-Division-6-Football-League-3.jpg
END:VEVENT
END:VCALENDAR