BEGIN:VCALENDAR
VERSION:2.0
PRODID:-//Cork GAA - ECPv6.15.20//NONSGML v1.0//EN
CALSCALE:GREGORIAN
METHOD:PUBLISH
X-WR-CALNAME:Cork GAA
X-ORIGINAL-URL:https://gaacork.ie
X-WR-CALDESC:Events for Cork GAA
REFRESH-INTERVAL;VALUE=DURATION:PT1H
X-Robots-Tag:noindex
X-PUBLISHED-TTL:PT1H
BEGIN:VTIMEZONE
TZID:Europe/Dublin
BEGIN:STANDARD
TZOFFSETFROM:+0000
TZOFFSETTO:+0100
TZNAME:IST
DTSTART:20240331T010000
END:STANDARD
BEGIN:DAYLIGHT
TZOFFSETFROM:+0100
TZOFFSETTO:+0000
TZNAME:GMT
DTSTART:20241027T010000
END:DAYLIGHT
BEGIN:STANDARD
TZOFFSETFROM:+0000
TZOFFSETTO:+0100
TZNAME:IST
DTSTART:20250330T010000
END:STANDARD
BEGIN:DAYLIGHT
TZOFFSETFROM:+0100
TZOFFSETTO:+0000
TZNAME:GMT
DTSTART:20251026T010000
END:DAYLIGHT
BEGIN:STANDARD
TZOFFSETFROM:+0000
TZOFFSETTO:+0100
TZNAME:IST
DTSTART:20260329T010000
END:STANDARD
BEGIN:DAYLIGHT
TZOFFSETFROM:+0100
TZOFFSETTO:+0000
TZNAME:GMT
DTSTART:20261025T010000
END:DAYLIGHT
END:VTIMEZONE
BEGIN:VEVENT
DTSTART;TZID=Europe/Dublin:20250704T183000
DTEND;TZID=Europe/Dublin:20250704T213000
DTSTAMP:20260425T032231
CREATED:20250703T224538Z
LAST-MODIFIED:20250703T224551Z
UID:36123-1751653800-1751664600@gaacork.ie
SUMMARY:Division 1 Football League Final
DESCRIPTION: McCarthy Insurance Group FL Division 1 Final\n📅 Friday\, 4th July 2025⏰ 19:30📍 Ballygarvan \nThe stage is set for a thrilling conclusion to the McCarthy Insurance Group Football League Division 1\, as St Finbarr’s take on Clonakilty in the much-anticipated final  in Ballygarvan. \nBuy Match Tickets\n \nMcCarthy Insurance Group Football League Division 1\nFinal: St Finbarr’s 🆚 Clonakilty📍 Ballygarvan | 🕢 Friday\, 4th July | 7:30 PM \n\n🟦 St Finbarr’s Road to the Final\nKey Results: \n\n\n✅ 27 Feb | St Finbarr’s 2-20 🆚 2-15 Cill na Martra \n\n\n✅ 16 Mar | St Finbarr’s 0-18 🆚 1-11 Eire Óg \n\n\n✅ 29 Mar | St Finbarr’s 0-14 🆚 0-12 Nemo Rangers \n\n\n✅ 13 Apr | St Finbarr’s 0-22 🆚 1-16 Carrigaline \n\n\n✅ 26 Apr | St Finbarr’s 3-16 🆚 1-13 Castlehaven \n\n\n✅ 24 May | St Finbarr’s 0-16 🆚 1-7 Douglas \n\n\n✅ 5 June | St Finbarr’s 0-17 🆚 1-7 St Michael’s \n\n\n✅ 21 June | Win awarded vs Newcestown (Conceded) \n\n\n\n🟥 Clonakilty’s Road to the Final\nKey Results: \n\n\n✅ 2 Mar | Clonakilty 1-18 🆚 1-8 Eire Óg \n\n\n✅ 16 Mar | Clonakilty 2-13 🆚 0-6 Douglas \n\n\n✅ 30 Mar | Clonakilty 2-16 🆚 0-17 St Michael’s \n\n\n✅ 12 Apr | Clonakilty 3-9 🆚 2-9 Newcestown \n\n\n✅ 27 Apr | Clonakilty 1-15 🆚 1-12 Cill na Martra \n\n\n❌ 21 May | Clonakilty 1-15 🆚 1-16 Nemo Rangers \n\n\n✅ 8 June | Clonakilty 2-17 🆚 2-12 Carrigaline \n\n\n❌ 11 May | Clonakilty 3-22 🆚 0-6 St Finbarr’s \n\n\n✅ 29 June  Clonakilty 1-15 🆚 2-12 Castlehaven
URL:https://gaacork.ie/event/division-1-football-league-final/
CATEGORIES:Key Matches
ATTACH;FMTTYPE=image/png:https://gaacork.ie/wp-content/uploads/2025/07/Final-Division-6-Football-League-1.png
END:VEVENT
END:VCALENDAR