BEGIN:VCALENDAR
VERSION:2.0
PRODID:-//Cork GAA - ECPv6.15.20//NONSGML v1.0//EN
CALSCALE:GREGORIAN
METHOD:PUBLISH
X-WR-CALNAME:Cork GAA
X-ORIGINAL-URL:https://gaacork.ie
X-WR-CALDESC:Events for Cork GAA
REFRESH-INTERVAL;VALUE=DURATION:PT1H
X-Robots-Tag:noindex
X-PUBLISHED-TTL:PT1H
BEGIN:VTIMEZONE
TZID:Europe/Dublin
BEGIN:STANDARD
TZOFFSETFROM:+0000
TZOFFSETTO:+0100
TZNAME:IST
DTSTART:20250330T010000
END:STANDARD
BEGIN:DAYLIGHT
TZOFFSETFROM:+0100
TZOFFSETTO:+0000
TZNAME:GMT
DTSTART:20251026T010000
END:DAYLIGHT
BEGIN:STANDARD
TZOFFSETFROM:+0000
TZOFFSETTO:+0100
TZNAME:IST
DTSTART:20260329T010000
END:STANDARD
BEGIN:DAYLIGHT
TZOFFSETFROM:+0100
TZOFFSETTO:+0000
TZNAME:GMT
DTSTART:20261025T010000
END:DAYLIGHT
BEGIN:STANDARD
TZOFFSETFROM:+0000
TZOFFSETTO:+0100
TZNAME:IST
DTSTART:20270328T010000
END:STANDARD
BEGIN:DAYLIGHT
TZOFFSETFROM:+0100
TZOFFSETTO:+0000
TZNAME:GMT
DTSTART:20271031T010000
END:DAYLIGHT
END:VTIMEZONE
BEGIN:VEVENT
DTSTART;TZID=Europe/Dublin:20260422T180000
DTEND;TZID=Europe/Dublin:20260422T203000
DTSTAMP:20260422T010948
CREATED:20260420T213443Z
LAST-MODIFIED:20260421T160745Z
UID:10000244-1776880800-1776889800@gaacork.ie
SUMMARY:2026- Munster U20 FC Cork v Waterford
DESCRIPTION:2026 – Phase 2 Round 3: Cork v Waterford\nCork are back in SuperValu Páirc Uí Chaoimh for Phase 2 Round 3 as they face Waterford. \nWho: Cork v WaterfordWhat: Phase 2 Round 3Where: SuperValu Páirc Uí ChaoimhWhen: Wednesday\, April 22rd\, 2026 | 7:00pm \nTickets
URL:https://gaacork.ie/event/2026-munster-u20-fc-cork-v-waterford/
LOCATION:SuperValu Páirc Uí Chaoimh\, T12 PF30\, Ireland
CATEGORIES:Football Tickets,Inter-County,Key Matches,Live on News,Match Centre,SuperValu Páirc Uí Chaoimh,Tickets,U20 Football
ATTACH;FMTTYPE=image/png:https://gaacork.ie/wp-content/uploads/2026/04/Round-7-8.png
END:VEVENT
END:VCALENDAR