BEGIN:VCALENDAR
VERSION:2.0
PRODID:-//Cork GAA - ECPv6.15.20//NONSGML v1.0//EN
CALSCALE:GREGORIAN
METHOD:PUBLISH
X-WR-CALNAME:Cork GAA
X-ORIGINAL-URL:https://gaacork.ie
X-WR-CALDESC:Events for Cork GAA
REFRESH-INTERVAL;VALUE=DURATION:PT1H
X-Robots-Tag:noindex
X-PUBLISHED-TTL:PT1H
BEGIN:VTIMEZONE
TZID:Europe/Dublin
BEGIN:STANDARD
TZOFFSETFROM:+0000
TZOFFSETTO:+0100
TZNAME:IST
DTSTART:20240331T010000
END:STANDARD
BEGIN:DAYLIGHT
TZOFFSETFROM:+0100
TZOFFSETTO:+0000
TZNAME:GMT
DTSTART:20241027T010000
END:DAYLIGHT
BEGIN:STANDARD
TZOFFSETFROM:+0000
TZOFFSETTO:+0100
TZNAME:IST
DTSTART:20250330T010000
END:STANDARD
BEGIN:DAYLIGHT
TZOFFSETFROM:+0100
TZOFFSETTO:+0000
TZNAME:GMT
DTSTART:20251026T010000
END:DAYLIGHT
BEGIN:STANDARD
TZOFFSETFROM:+0000
TZOFFSETTO:+0100
TZNAME:IST
DTSTART:20260329T010000
END:STANDARD
BEGIN:DAYLIGHT
TZOFFSETFROM:+0100
TZOFFSETTO:+0000
TZNAME:GMT
DTSTART:20261025T010000
END:DAYLIGHT
END:VTIMEZONE
BEGIN:VEVENT
DTSTART;TZID=Europe/Dublin:20250119T133000
DTEND;TZID=Europe/Dublin:20250119T150000
DTSTAMP:20260422T181930
CREATED:20250119T101534Z
LAST-MODIFIED:20250119T101659Z
UID:10000079-1737293400-1737298800@gaacork.ie
SUMMARY:AIB GAA Hurling All-Ireland Senior Club Championship Final – Sarsfields v Na Fianna (Dublin)
DESCRIPTION:Sarsfields (Cork) will play Na Fianna (Dublin) in the 2024 AIB GAA Hurling All-Ireland Senior Club Championship Final on Sunday January 19th at 1:30pm in Croke Park. \n\nFixture Details \n19.01.2025 (Sun)\nAIB GAA Hurling All-Ireland Senior Club Championship Final\nPáirc an Chrócaigh 13:30\nNa Fianna (Áth Cliath) v Sarsfields\nReferee: Liam Gordon\, Gaillimh\n(E.T. & Winner on the Day) \n\nMatch Coverage \nThis game will be shown live on TG4.
URL:https://gaacork.ie/event/aib-gaa-hurling-all-ireland-senior-club-championship-final-sarsfields-v-na-fianna-dublin/
CATEGORIES:Key Matches,SuperValu Páirc Uí Chaoimh
ATTACH;FMTTYPE=image/jpeg:https://gaacork.ie/wp-content/uploads/2025/01/Jack-OConnor-2.jpg
END:VEVENT
BEGIN:VEVENT
DTSTART;TZID=Europe/Dublin:20250125T170000
DTEND;TZID=Europe/Dublin:20250125T170000
DTSTAMP:20260422T181930
CREATED:20241216T001012Z
LAST-MODIFIED:20250119T102154Z
UID:10000067-1737824400-1737824400@gaacork.ie
SUMMARY:Allianz Football League | Cork v Meath
DESCRIPTION:Cork footballers will face Meath in the opening game of the Allianz Football League on Saturday\, January 25th\, in SuperValu Páirc Uí Chaoimh. The game has a 5pm start. \n  \n\n\n\n\n\n\n\n\nRound 1: Cork v Meath\nSuperValu Páirc Uí Chaoimh – Saturday 25th January 2025 – 5pm \n\nBuy Tickets\n\n\n  \nMore information to be shared closer to the date. \n 
URL:https://gaacork.ie/event/allianz-football-league-cork-v-meath/
LOCATION:SuperValu Páirc Uí Chaoimh\, T12 PF30\, Ireland
CATEGORIES:Football Tickets,Inter-County,Key Matches,Senior Football
ATTACH;FMTTYPE=image/png:https://gaacork.ie/wp-content/uploads/2024/12/Saturday-January-25-Cork-v-Meath-SuperValu-Pairc-Ui-Chaoimh-5pm.png
END:VEVENT
BEGIN:VEVENT
DTSTART;TZID=Europe/Dublin:20250125T170000
DTEND;TZID=Europe/Dublin:20250125T190000
DTSTAMP:20260422T181930
CREATED:20241217T233833Z
LAST-MODIFIED:20250119T110832Z
UID:10000072-1737824400-1737831600@gaacork.ie
SUMMARY:Allianz Hurling League | Cork v Wexford
DESCRIPTION:Round 1: Wexford v Cork – Allianz Football League\nDate: Saturday\, 25th January 2025\nVenue: Chadwicks Wexford Park\nThrow-In: 5:00 PM \nGet ready for an exciting start to the Allianz Football League as Cork take on Wexford in Round 1 at Chadwicks Wexford Park. \n  \n  \n\n\n\n\n\n\n\n\nRound 1: Wexford v Cork\nChadwicks Wexford Park – Saturday 25th January 2025 – 5pm. Allianz Football League – Wexford v London – 7pm \n\nBuy Tickets
URL:https://gaacork.ie/event/allianz-hurling-league-cork-v-wexford/
LOCATION:Chadwicks Wexford Park\, Y35 R391\, Ireland
CATEGORIES:Hurling Tickets,Inter-County,Key Matches,Senior Hurling
ATTACH;FMTTYPE=image/png:https://gaacork.ie/wp-content/uploads/2024/12/Saturday-January-25th-Wexford-v-Cork-Wexford-Park-5pm.-1.png
END:VEVENT
END:VCALENDAR