BEGIN:VCALENDAR
VERSION:2.0
PRODID:-//Cork GAA - ECPv6.15.20//NONSGML v1.0//EN
CALSCALE:GREGORIAN
METHOD:PUBLISH
X-WR-CALNAME:Cork GAA
X-ORIGINAL-URL:https://gaacork.ie
X-WR-CALDESC:Events for Cork GAA
REFRESH-INTERVAL;VALUE=DURATION:PT1H
X-Robots-Tag:noindex
X-PUBLISHED-TTL:PT1H
BEGIN:VTIMEZONE
TZID:Europe/Dublin
BEGIN:STANDARD
TZOFFSETFROM:+0000
TZOFFSETTO:+0100
TZNAME:IST
DTSTART:20240331T010000
END:STANDARD
BEGIN:DAYLIGHT
TZOFFSETFROM:+0100
TZOFFSETTO:+0000
TZNAME:GMT
DTSTART:20241027T010000
END:DAYLIGHT
BEGIN:STANDARD
TZOFFSETFROM:+0000
TZOFFSETTO:+0100
TZNAME:IST
DTSTART:20250330T010000
END:STANDARD
BEGIN:DAYLIGHT
TZOFFSETFROM:+0100
TZOFFSETTO:+0000
TZNAME:GMT
DTSTART:20251026T010000
END:DAYLIGHT
BEGIN:STANDARD
TZOFFSETFROM:+0000
TZOFFSETTO:+0100
TZNAME:IST
DTSTART:20260329T010000
END:STANDARD
BEGIN:DAYLIGHT
TZOFFSETFROM:+0100
TZOFFSETTO:+0000
TZNAME:GMT
DTSTART:20261025T010000
END:DAYLIGHT
END:VTIMEZONE
BEGIN:VEVENT
DTSTART;TZID=Europe/Dublin:20250301T150000
DTEND;TZID=Europe/Dublin:20250301T210000
DTSTAMP:20260422T143246
CREATED:20241229T225124Z
LAST-MODIFIED:20250223T231513Z
UID:10000074-1740841200-1740862800@gaacork.ie
SUMMARY:Allianz Hurling\, Football and LGFA Triple Header
DESCRIPTION:🚨 A Super Saturday of Cork GAA Action 🚨 \n📍 SuperValu Páirc Uí Chaoimh\n🗓️ Saturday\, 1st March 2025 \n🎉 Triple-Header Lineup:\n🏐 LGFA Football League – Round 5: Cork v Roscommon\n⏰ Throw-in: 3:00 PM \n🏑 Allianz Hurling League – Round 5: Cork v Kilkenny\n⏰ Throw-in: 5:00 PM \n🏐 Allianz Football League – Round 5: Cork v Roscommon\n⏰ Throw-in: 7:00 PM \n🎟️ Buy Tickets Now to witness an unforgettable day of Cork GAA! \n  \nDon’t miss this action-packed Super Saturday at SuerValu Páirc Uí Chaoimh! \nThree thrilling games\, one incredible venue – join us as Cork takes on Roscommon and Kilkenny in a full day of top-class GAA action. From LGFA to Hurling and Football\, there’s something for every Rebel supporter! \n  \n\n\n\n\nCork v Kilkenny & Roscommon Allianz Leagues\n\nSat • 01 Mar 2025 • 05:00 PM|View Event Info\n\n\n\nBuy Tickets
URL:https://gaacork.ie/event/allianz-hurling-football-and-lgfa-triple-header/
LOCATION:SuperValu Páirc Uí Chaoimh\, T12 PF30\, Ireland
CATEGORIES:Football Tickets,Hurling Tickets,Inter-County,Key Matches,Senior Football,Senior Hurling
ATTACH;FMTTYPE=image/png:https://gaacork.ie/wp-content/uploads/2024/12/Game-week-Ladies-Football-Hurling-and-football-action-Saturday-1st-March-Supervalu-Pairc-Ui-Chaoimh.png
END:VEVENT
BEGIN:VEVENT
DTSTART;TZID=Europe/Dublin:20250309T151500
DTEND;TZID=Europe/Dublin:20250309T170000
DTSTAMP:20260422T143246
CREATED:20241229T230724Z
LAST-MODIFIED:20241229T231718Z
UID:10000077-1741533300-1741539600@gaacork.ie
SUMMARY:Allianz Hurling League| Cork V Clare
DESCRIPTION:🚨 Round 6: Clare v Cork 🚨 \n🏐 Allianz Hurling  League\n📍 Cusack Park\, Ennis\n🗓️ Sunday\, 9th March 2025\n⏰ Throw-in: 3:15 PM \nCork travels to Ennis for another crucial clash in the league. Let’s back the Rebels as they take on Clare! 🔴⚪ \n🎟️ Buy Tickets Now and show your support! \n\n\n\n  \n  \n  \n\n\n\n\n\n\n\n\n\nRound 6: Clare v Cork\nCusack Park\, Ennis – Sunday 9th March 2025 – 3.15pm \n\nBuy Tickets
URL:https://gaacork.ie/event/allianz-hurling-league-cork-v-clare/
LOCATION:Cusack Park\, Ennis\, Clare\, 95YP98\, Ireland
CATEGORIES:Hurling Tickets,Inter-County,Key Matches,Senior Hurling
ATTACH;FMTTYPE=image/png:https://gaacork.ie/wp-content/uploads/2024/12/Bulk-1-Friday-January-17th-from-19.00-21.30-in-Super-Valu-Pairc-Ui-Chaoimh-3.png
END:VEVENT
BEGIN:VEVENT
DTSTART;TZID=Europe/Dublin:20250316T140000
DTEND;TZID=Europe/Dublin:20250316T160000
DTSTAMP:20260422T143246
CREATED:20241217T185938Z
LAST-MODIFIED:20241229T231718Z
UID:10000070-1742133600-1742140800@gaacork.ie
SUMMARY:Allianz Football League | Cork v Louth
DESCRIPTION:Round 6: Cork v Louth\nSuperValu Páirc Uí Chaoimh\nSunday\, 16th March 2025 – 2:00 PM \nThe stakes are high as Cork takes on Louth in Round 6 at SuperValu Páirc Uí Chaoimh. With the season reaching a critical stage\, every point matters\, and both teams will be determined to claim victory. Bring the noise\, back the Rebels\, and enjoy a thrilling afternoon of football! \n\n\n\n\n\n\n  \n  \n\n\n\n\n\n\n\n\nRound 6: Cork v Louth\nSuperValu Páirc Uí Chaoimh – Sunday 16th March 2025 – 2pm \n\nBuy Tickets
URL:https://gaacork.ie/event/allianz-football-league-cork-v-louth/
LOCATION:SuperValu Páirc Uí Chaoimh\, T12 PF30\, Ireland
CATEGORIES:Football Tickets,Inter-County,Key Matches,Senior Football
ATTACH;FMTTYPE=image/png:https://gaacork.ie/wp-content/uploads/2024/12/Bulk-1-Friday-January-17th-from-19.00-21.30-in-Super-Valu-Pairc-Ui-Chaoimh-1.png
END:VEVENT
BEGIN:VEVENT
DTSTART;TZID=Europe/Dublin:20250322T193000
DTEND;TZID=Europe/Dublin:20250322T210000
DTSTAMP:20260422T143246
CREATED:20241229T231359Z
LAST-MODIFIED:20250319T234018Z
UID:10000078-1742671800-1742677200@gaacork.ie
SUMMARY:Allianz Hurling League | Cork v Galway
DESCRIPTION:🚨 Round 7: Cork v Galway 🚨 \n🏐 Allianz Hurling League\n📍 SuperValu Páirc Uí Chaoimh\n🗓️ Saturday\, 22nd March 2025\n⏰ Throw-in: 7:30 PM \nJoin us under the lights at Páirc Uí Chaoimh as Cork takes on Galway in the final round of the league! 🔴⚪ \n🎟️ Buy Tickets Now and be part of the action! \n \n  \n  \n\n\n\n\n\n\n\n\nRound 7: Cork v Galway\nSuperValu Páirc Uí Chaoimh – Saturday 22nd March 2025 – 7.30pm
URL:https://gaacork.ie/event/allianz-hurling-league-cork-v-galway/
LOCATION:SuperValu Páirc Uí Chaoimh\, T12 PF30\, Ireland
CATEGORIES:Hurling Tickets,Inter-County,Key Matches,Senior Hurling
ATTACH;FMTTYPE=image/png:https://gaacork.ie/wp-content/uploads/2024/12/Saturday-March-22-Cork-v-Galway-SuperValu-Pairc-Ui-Chaoimh-7.30pm.png
END:VEVENT
BEGIN:VEVENT
DTSTART;TZID=Europe/Dublin:20250323T133000
DTEND;TZID=Europe/Dublin:20250323T150000
DTSTAMP:20260422T143246
CREATED:20241229T225544Z
LAST-MODIFIED:20250319T233446Z
UID:10000075-1742736600-1742742000@gaacork.ie
SUMMARY:Allianz Football League- Round 7: Cavan v Cork
DESCRIPTION:Allianz Football League🏐 \n🚨 Round 7: Cavan v Cork 🚨 \n🏐 Allianz Football League\n📍 Kingspan Breffni\n🗓️ Sunday\, 23rd March 2025\n⏰ Throw-in: 1:30 PM \nCork heads to Cavan for the final round of the league. Let’s rally behind the Rebels and finish strong! 🔴⚪ \n🎟️ Buy Tickets Now and show your support! \n  \n \n\n\n\n\n\n\n\n\nRound 7: Cavan v Cork\nKingspan Breffni – Sunday 23rd March 2025 – 1.30pm \n\nBuy Tickets\n\n\n 
URL:https://gaacork.ie/event/allianz-football-league-round-7-cavan-v-cork/
CATEGORIES:Football Tickets,Inter-County,Key Matches,Senior Football
ATTACH;FMTTYPE=image/png:https://gaacork.ie/wp-content/uploads/2024/12/Bulk-1-Friday-January-17th-from-19.00-21.30-in-Super-Valu-Pairc-Ui-Chaoimh-2.png
END:VEVENT
BEGIN:VEVENT
DTSTART;TZID=Europe/Dublin:20250326T190000
DTEND;TZID=Europe/Dublin:20250326T213000
DTSTAMP:20260422T143246
CREATED:20250316T224315Z
LAST-MODIFIED:20250319T232746Z
UID:10000080-1743015600-1743024600@gaacork.ie
SUMMARY:Munster U20 HC | Cork vs Clare
DESCRIPTION:Munster U20 Hurling Championship – Round 1 🔴⚫ \n📅 Date: Tuesday\, March 26th📍 Venue: Sixmilebridge⏰ Throw-in: 7:00 PM \nOur U20’s will get their 2025 Munster U20 Hurling Championship campaign underway with a Round 1 clash against Clare in Sixmilebridge. \n🎟 Tickets are on sale below \n\n \n📢 Team information will be shared closer to the game. \n#CorcaighAbú 🔴⚫ #U20Hurling #MunsterChampionship
URL:https://gaacork.ie/event/munster-u20-hc-cork-vs-clare/
LOCATION:Sixmilebridge
CATEGORIES:Hurling Tickets,Inter-County,Key Matches,Tickets,U20 Hurling
ATTACH;FMTTYPE=image/jpeg:https://gaacork.ie/wp-content/uploads/2025/03/Bulk-1-Munster-U20-Hurling-Championship.jpg
END:VEVENT
BEGIN:VEVENT
DTSTART;TZID=Europe/Dublin:20250328T190000
DTEND;TZID=Europe/Dublin:20250328T220000
DTSTAMP:20260422T143246
CREATED:20250316T225924Z
LAST-MODIFIED:20250324T111709Z
UID:10000084-1743188400-1743199200@gaacork.ie
SUMMARY:Minor Minor HC | Cork vs Limerick
DESCRIPTION:Munster Minor Hurling Championship – Round 1 🔴⚫ \n📅 Date: Friday\, March 28th\, 2025📍 Venue: TUS Gaelic Grounds Limerick⏰ Throw-in: 7:00 PM \nCork Minor’s begin their 2025 Munster Minor Hurling Championship campaign with a Round 1 clash against Limerick in Mick Neville Park\, Rathkeale. \n🎟 Tickets on sale below \n \n📢 Team information will be shared closer to the game.
URL:https://gaacork.ie/event/minor-minor-hc-cork-vs-limerick/
LOCATION:TUS Gaelic Grounds Limerick\, Limerick\, Ireland
CATEGORIES:Hurling Tickets,Inter-County,Key Matches,Minor Hurling,Tickets
ATTACH;FMTTYPE=image/png:https://gaacork.ie/wp-content/uploads/2025/03/Munster-Minor-Hurling-Championship.png
END:VEVENT
END:VCALENDAR