BEGIN:VCALENDAR
VERSION:2.0
PRODID:-//Cork GAA - ECPv6.15.20//NONSGML v1.0//EN
CALSCALE:GREGORIAN
METHOD:PUBLISH
X-ORIGINAL-URL:https://gaacork.ie
X-WR-CALDESC:Events for Cork GAA
REFRESH-INTERVAL;VALUE=DURATION:PT1H
X-Robots-Tag:noindex
X-PUBLISHED-TTL:PT1H
BEGIN:VTIMEZONE
TZID:Europe/Dublin
BEGIN:STANDARD
TZOFFSETFROM:+0000
TZOFFSETTO:+0100
TZNAME:IST
DTSTART:20240331T010000
END:STANDARD
BEGIN:DAYLIGHT
TZOFFSETFROM:+0100
TZOFFSETTO:+0000
TZNAME:GMT
DTSTART:20241027T010000
END:DAYLIGHT
BEGIN:STANDARD
TZOFFSETFROM:+0000
TZOFFSETTO:+0100
TZNAME:IST
DTSTART:20250330T010000
END:STANDARD
BEGIN:DAYLIGHT
TZOFFSETFROM:+0100
TZOFFSETTO:+0000
TZNAME:GMT
DTSTART:20251026T010000
END:DAYLIGHT
BEGIN:STANDARD
TZOFFSETFROM:+0000
TZOFFSETTO:+0100
TZNAME:IST
DTSTART:20260329T010000
END:STANDARD
BEGIN:DAYLIGHT
TZOFFSETFROM:+0100
TZOFFSETTO:+0000
TZNAME:GMT
DTSTART:20261025T010000
END:DAYLIGHT
END:VTIMEZONE
BEGIN:VEVENT
DTSTART;TZID=Europe/Dublin:20250505T180000
DTEND;TZID=Europe/Dublin:20250505T200000
DTSTAMP:20260424T224053
CREATED:20250502T223915Z
LAST-MODIFIED:20250502T224026Z
UID:10000100-1746468000-1746475200@gaacork.ie
SUMMARY:Minor FC | Cork vs Kerry Q-Final
DESCRIPTION:🟠 Munster GAA Minor Football Championship Q-Final 🟡📍 Páirc Uí Rinn📆 Monday\, May 5th🕖 7:00 PM Throw-In \nCORK 🆚 KERRY \nThe age-old rivalry continues as Cork take on Kerry in the Munster Minor Football Championship Quarter-Final. Join us in Páirc Uí Rinn on Monday night as the young Rebels go head-to-head with the Kingdom in a battle for a semi-final spot. \n================================== \n🎟 Buy your tickets below:👉
URL:https://gaacork.ie/event/minor-fc-cork-vs-kerry-q-final/
CATEGORIES:Football Tickets,Inter-County,Minor Football,SuperValu Páirc Uí Chaoimh,Tickets
ATTACH;FMTTYPE=image/jpeg:https://gaacork.ie/wp-content/uploads/2025/05/Munster-Minor-Hurling-Championship-5.jpg
END:VEVENT
BEGIN:VEVENT
DTSTART;TZID=Europe/Dublin:20250507T183000
DTEND;TZID=Europe/Dublin:20250507T200000
DTSTAMP:20260424T224053
CREATED:20250502T222950Z
LAST-MODIFIED:20250502T223958Z
UID:10000099-1746642600-1746648000@gaacork.ie
SUMMARY:Munster U20 | Semi-Final\, Cork vs Clare
DESCRIPTION:🔴 Munster U20 Hurling Championship Semi-Final 🔵📍 SuperValu Páirc Uí Chaoimh📆 Wednesday\, May 7th🕢 7:35 PM Throw-In \nCork will face Clare in the Munster U20 Hurling Championship Semi-Final on Wednesday\, May 7th at 7:35 PM in SuperValu Páirc Uí Chaoimh. With a place in the Munster Final on the line\, it promises to be a thrilling encounter in the Páirc. \n  \n🎟 Buy your tickets below:👉
URL:https://gaacork.ie/event/munster-u20-semi-final-cork-vs-clare/
LOCATION:SuperValu Páirc Uí Chaoimh\, T12 PF30\, Ireland
CATEGORIES:Hurling Tickets,Inter-County,Key Matches,SuperValu Páirc Uí Chaoimh,Tickets,U20 Hurling
ATTACH;FMTTYPE=image/jpeg:https://gaacork.ie/wp-content/uploads/2025/05/Copy-of-Bulk-1-Munster-U20-Hurling-Championship-2.jpg
END:VEVENT
BEGIN:VEVENT
DTSTART;TZID=Europe/Dublin:20250516T180000
DTEND;TZID=Europe/Dublin:20250516T210000
DTSTAMP:20260424T224053
CREATED:20250514T205516Z
LAST-MODIFIED:20250514T214714Z
UID:10000101-1747418400-1747429200@gaacork.ie
SUMMARY:Munster MHC Fina | Cork vs Waterford
DESCRIPTION:🔴⚪ Munster Minor Hurling Final: Cork vs Waterford 🔵⚪\nFriday\, May 16th | 7:00 PM | FBD Semple Stadium\, Thurles \nThe stage is set for a thrilling showdown this Friday night as Cork take on Waterford in the 2025 Electric Ireland Munster Minor Hurling Championship Final at FBD Semple Stadium\, Thurles. \nThis promises to be a high-octane clash between two traditional hurling rivals\, and support from the stands could make all the difference. We’re calling on all Cork supporters to head to Thurles and get behind our young Rebels! \n\n📍 Match Info:🆚 Cork vs Waterford🏆 Munster Minor Hurling Final📅 Friday\, May 16th🕖 7:00 PM throw-in📍 FBD Semple Stadium\, Thurles \n\n🎟️ Tickets available Buy your tickets below: \n👉
URL:https://gaacork.ie/event/munster-mhc-fina-cork-vs-waterford/
LOCATION:Semple Stadium\, Bohernave Road\, Thurles Townparks\, Thurles\, Co. Tipperary\, Ireland
CATEGORIES:Hurling Tickets,Inter-County,Key Matches,Minor Hurling,SuperValu Páirc Uí Chaoimh,Tickets
ATTACH;FMTTYPE=image/png:https://gaacork.ie/wp-content/uploads/2025/05/Munster-Minor-Hurling-Championship-2.png
END:VEVENT
BEGIN:VEVENT
DTSTART;TZID=Europe/Dublin:20250525T150000
DTEND;TZID=Europe/Dublin:20250525T183000
DTSTAMP:20260424T224053
CREATED:20250420T224322Z
LAST-MODIFIED:20250420T224343Z
UID:10000098-1748185200-1748197800@gaacork.ie
SUMMARY:Munster SHC | Cork vs Waterford Round 5
DESCRIPTION:📣 Munster Senior Hurling Championship 📣\nCork 🆚 Waterford \n🏟️ Venue: SuperValu Páirc Uí Chaoimh📅 Date: Sunday\, 25th May 2025🕓 Throw-in: 4:00 PM \nThe final round of the Munster Senior Hurling Championship group stage sees Cork welcome Waterford to SuperValu Páirc Uí Chaoimh. A crucial fixture with everything on the line — expect a huge crowd\, a fierce battle\, and top-class hurling on Leeside!
URL:https://gaacork.ie/event/munster-shc-cork-vs-waterford-round-5/
LOCATION:SuperValu Páirc Uí Chaoimh\, T12 PF30\, Ireland
CATEGORIES:Hurling Tickets,Inter-County,Key Matches,Senior Hurling,SuperValu Páirc Uí Chaoimh,Tickets
ATTACH;FMTTYPE=image/jpeg:https://gaacork.ie/wp-content/uploads/2025/04/cork-v-Waterford.jpg
END:VEVENT
BEGIN:VEVENT
DTSTART;TZID=Europe/Dublin:20250531T154500
DTEND;TZID=Europe/Dublin:20250531T173000
DTSTAMP:20260424T224053
CREATED:20250526T214557Z
LAST-MODIFIED:20250530T213311Z
UID:10000105-1748706300-1748712600@gaacork.ie
SUMMARY:Cork v Kerry – All-Ireland SFC Round 2
DESCRIPTION:Cork v Kerry – All-Ireland SFC Round 2\nCork will face Kerry in Round 2 of the GAA Football All-Ireland Senior Championship (Group 2) on: \n🗓️ Saturday\, May 31st🕓 4:45 PM📍 SuperValu Páirc Uí Chaoimh \nThis highly anticipated clash brings two proud Munster rivals head-to-head in a crucial Group 2 encounter. \nSupport the Rebels as they go in search of victory on home turf! \n🎟️ Ticket information  \nPlease click here to buy tickets 
URL:https://gaacork.ie/event/cork-v-kerry-all-ireland-sfc-round-2/
LOCATION:SuperValu Páirc Uí Chaoimh\, T12 PF30\, Ireland
CATEGORIES:Football Tickets,Inter-County,Senior Football,SuperValu Páirc Uí Chaoimh,Tickets
ATTACH;FMTTYPE=image/png:https://gaacork.ie/wp-content/uploads/2025/05/All-Ireland-Senior-FC-Group-2-Rd-1-Saturday-24th-May-2025-3pm-Pairc-Tailteann-Navan-4.png
END:VEVENT
END:VCALENDAR