BEGIN:VCALENDAR
VERSION:2.0
PRODID:-//Cork GAA - ECPv6.15.20//NONSGML v1.0//EN
CALSCALE:GREGORIAN
METHOD:PUBLISH
X-ORIGINAL-URL:https://gaacork.ie
X-WR-CALDESC:Events for Cork GAA
REFRESH-INTERVAL;VALUE=DURATION:PT1H
X-Robots-Tag:noindex
X-PUBLISHED-TTL:PT1H
BEGIN:VTIMEZONE
TZID:Europe/Dublin
BEGIN:STANDARD
TZOFFSETFROM:+0000
TZOFFSETTO:+0100
TZNAME:IST
DTSTART:20250330T010000
END:STANDARD
BEGIN:DAYLIGHT
TZOFFSETFROM:+0100
TZOFFSETTO:+0000
TZNAME:GMT
DTSTART:20251026T010000
END:DAYLIGHT
BEGIN:STANDARD
TZOFFSETFROM:+0000
TZOFFSETTO:+0100
TZNAME:IST
DTSTART:20260329T010000
END:STANDARD
BEGIN:DAYLIGHT
TZOFFSETFROM:+0100
TZOFFSETTO:+0000
TZNAME:GMT
DTSTART:20261025T010000
END:DAYLIGHT
BEGIN:STANDARD
TZOFFSETFROM:+0000
TZOFFSETTO:+0100
TZNAME:IST
DTSTART:20270328T010000
END:STANDARD
BEGIN:DAYLIGHT
TZOFFSETFROM:+0100
TZOFFSETTO:+0000
TZNAME:GMT
DTSTART:20271031T010000
END:DAYLIGHT
END:VTIMEZONE
BEGIN:VEVENT
DTSTART;TZID=Europe/Dublin:20260425T130000
DTEND;TZID=Europe/Dublin:20260425T153000
DTSTAMP:20260421T003715
CREATED:20260412T222227Z
LAST-MODIFIED:20260415T230401Z
UID:10000248-1777122000-1777131000@gaacork.ie
SUMMARY:2026-MSFC- Cork vs Tipperary Semi-Final
DESCRIPTION:2026 MSFC Cork v Tipperary \nCork will face Tipperary away in the Semi-Final of the 2026 Munster Senior Football Championship on Saturday\, April 25th at Semple Stadium\, Thurles\, with a 2:00pm throw-in. \nWho: Cork v Tipperary What: Munster Senior Football Championship – Semi-FinalWhere: Semple Stadium\, ThurlesWhen: Saturday\, 25th April 2026
URL:https://gaacork.ie/event/2026-msfc-cork-vs-tipperary-semi-final/
LOCATION:SuperValu Páirc Uí Chaoimh\, T12 PF30\, Ireland
CATEGORIES:Football Tickets,Inter-County,Key Matches,Live on News,Match Centre,Senior Football,SuperValu Páirc Uí Chaoimh,Tickets
ATTACH;FMTTYPE=image/jpeg:https://gaacork.ie/wp-content/uploads/2026/04/Next-Game-Cork-v-Louth-9.jpg
END:VEVENT
BEGIN:VEVENT
DTSTART;TZID=Europe/Dublin:20260427T180000
DTEND;TZID=Europe/Dublin:20260427T203000
DTSTAMP:20260421T003715
CREATED:20260403T215634Z
LAST-MODIFIED:20260403T215723Z
UID:10000247-1777312800-1777321800@gaacork.ie
SUMMARY:2026- Munster Minor FC | Cork v 2nd place Phase 1 team
DESCRIPTION:2026 – Phase 2 Round 1: Cork v TBC\nCork Minors will travel 2nd place Phase 1 team in away for Phase 2 Round 1 as they take on TBC. \nWho: Cork v TBCWhat: Phase 2 Round 1Where: Páirc Uí RinnWhen: Monday\, April 27th \, 2026 | 7:00pm \nTicketsTicket information will be added once confirmed
URL:https://gaacork.ie/event/2026-munster-minor-fc-cork-v-2nd-place-phase-1-team/
CATEGORIES:Football Tickets,Inter-County,Minor Football,Tickets
ATTACH;FMTTYPE=image/jpeg:https://gaacork.ie/wp-content/uploads/2026/04/2-2.jpg
END:VEVENT
BEGIN:VEVENT
DTSTART;TZID=Europe/Dublin:20260504T180000
DTEND;TZID=Europe/Dublin:20260504T203000
DTSTAMP:20260421T003715
CREATED:20260403T215245Z
LAST-MODIFIED:20260403T215723Z
UID:10000245-1777917600-1777926600@gaacork.ie
SUMMARY:2026- Munster Minor FC | Cork v Kerry
DESCRIPTION:2026 – Phase 2 Round 2: Cork v Kerry\nCork Minors head to Austin Stack Park Tralee for Phase 2 Round 2 as they take on Kerry. \nWho: Cork v KerryWhat: Phase 2 Round 2Where: Austin Stack Park Tralee When: Monday\, May  4\, 2026 | 7:00pm \nTicketsTicket information will be added once confirmed
URL:https://gaacork.ie/event/2026-munster-minor-fc-cork-v-kerry/
CATEGORIES:Football Tickets,Inter-County,Minor Football,Tickets
ATTACH;FMTTYPE=image/jpeg:https://gaacork.ie/wp-content/uploads/2026/04/1-2.jpg
END:VEVENT
BEGIN:VEVENT
DTSTART;TZID=Europe/Dublin:20260511T180000
DTEND;TZID=Europe/Dublin:20260511T203000
DTSTAMP:20260421T003715
CREATED:20260403T215432Z
LAST-MODIFIED:20260403T215723Z
UID:10000246-1778522400-1778531400@gaacork.ie
SUMMARY:2026- Munster Minor FC | Cork v 1st place Phase 1 team
DESCRIPTION:2026 – Phase 2 Round 2: Cork v Kerry\nCork Minors host the winners of 1st place Phase 1 team in Páirc Uí Rinn for Phase 2 Round 3 as they take on TBC. \nWho: Cork v KerryWhat: Phase 2 Round 2Where: Páirc Uí RinnWhen: Monday\, May  11th \, 2026 | 7:00pm \nTicketsTicket information will be added once confirmed
URL:https://gaacork.ie/event/2026-munster-minor-fc-cork-v-1st-place-phase-1-team/
CATEGORIES:Football Tickets,Inter-County,Minor Football,Tickets
ATTACH;FMTTYPE=image/jpeg:https://gaacork.ie/wp-content/uploads/2026/04/3-2.jpg
END:VEVENT
END:VCALENDAR