BEGIN:VCALENDAR
VERSION:2.0
PRODID:-//Cork GAA - ECPv6.15.20//NONSGML v1.0//EN
CALSCALE:GREGORIAN
METHOD:PUBLISH
X-WR-CALNAME:Cork GAA
X-ORIGINAL-URL:https://gaacork.ie
X-WR-CALDESC:Events for Cork GAA
REFRESH-INTERVAL;VALUE=DURATION:PT1H
X-Robots-Tag:noindex
X-PUBLISHED-TTL:PT1H
BEGIN:VTIMEZONE
TZID:Europe/Dublin
BEGIN:STANDARD
TZOFFSETFROM:+0000
TZOFFSETTO:+0100
TZNAME:IST
DTSTART:20250330T010000
END:STANDARD
BEGIN:DAYLIGHT
TZOFFSETFROM:+0100
TZOFFSETTO:+0000
TZNAME:GMT
DTSTART:20251026T010000
END:DAYLIGHT
BEGIN:STANDARD
TZOFFSETFROM:+0000
TZOFFSETTO:+0100
TZNAME:IST
DTSTART:20260329T010000
END:STANDARD
BEGIN:DAYLIGHT
TZOFFSETFROM:+0100
TZOFFSETTO:+0000
TZNAME:GMT
DTSTART:20261025T010000
END:DAYLIGHT
BEGIN:STANDARD
TZOFFSETFROM:+0000
TZOFFSETTO:+0100
TZNAME:IST
DTSTART:20270328T010000
END:STANDARD
BEGIN:DAYLIGHT
TZOFFSETFROM:+0100
TZOFFSETTO:+0000
TZNAME:GMT
DTSTART:20271031T010000
END:DAYLIGHT
END:VTIMEZONE
BEGIN:VEVENT
DTSTART;TZID=Europe/Dublin:20260427T180000
DTEND;TZID=Europe/Dublin:20260427T203000
DTSTAMP:20260424T023145
CREATED:20260403T215634Z
LAST-MODIFIED:20260423T225933Z
UID:45523-1777312800-1777321800@gaacork.ie
SUMMARY:2026- Munster Minor FC | Cork v Clare
DESCRIPTION:2026 – Phase 2 Round 1: Cork v Clare\nCork Minors will travel to Clare in Phase 2 Round 1 of Munster Minor Championship. The game will take place in Clarecastle. \nWho: Cork v ClareWhat: Phase 2 Round 1Where: ClarecastleWhen: Monday\, April 27th \, 2026 | 7:00pm \nTickets
URL:https://gaacork.ie/event/2026-munster-minor-fc-cork-v-clare/
CATEGORIES:Football Tickets,Inter-County,Key Matches,Match Centre,Minor Football,Tickets
ATTACH;FMTTYPE=image/jpeg:https://gaacork.ie/wp-content/uploads/2026/04/2-2.jpg
END:VEVENT
END:VCALENDAR